BEGIN:VCALENDAR
VERSION:2.0
PRODID:-//ChamberMaster//Event Calendar 2.0//EN
METHOD:PUBLISH
X-PUBLISHED-TTL:P3D
REFRESH-INTERVAL:P3D
CALSCALE:GREGORIAN
BEGIN:VEVENT
DTSTART:20210616T160000Z
DTEND:20210616T170000Z
X-MICROSOFT-CDO-ALLDAYEVENT:FALSE
SUMMARY:Ribbon Cutting-Maleko Personnel
DESCRIPTION:Join us as we celebrate Maleko's Ribbon Cutting and opening of their new location.
X-ALT-DESC;FMTTYPE=text/html:Join us as we celebrate Maleko&#39\;s Ribbon Cutting and opening of their new location.
LOCATION:896 Summit Round Rock\, TX 78664
UID:e.2429.3079
SEQUENCE:3
DTSTAMP:20260423T195629Z
URL:https://cm.huttochamber.com/events/details/ribbon-cutting-maleko-personnel-3079
END:VEVENT

END:VCALENDAR
