BEGIN:VCALENDAR
VERSION:2.0
PRODID:-//ChamberMaster//Event Calendar 2.0//EN
METHOD:PUBLISH
X-PUBLISHED-TTL:P3D
REFRESH-INTERVAL:P3D
CALSCALE:GREGORIAN
BEGIN:VEVENT
DTSTART:20221202T160000Z
DTEND:20221202T170000Z
X-MICROSOFT-CDO-ALLDAYEVENT:FALSE
SUMMARY:Ribbon Cutting: Hutto ISD HR Building
DESCRIPTION:Hutto ISD HR Building Ribbon Cutting
X-ALT-DESC;FMTTYPE=text/html:Hutto ISD HR Building Ribbon Cutting
LOCATION:200 College Street\, Hutto\, TX 78634
UID:e.2429.3530
SEQUENCE:3
DTSTAMP:20260422T081458Z
URL:https://cm.huttochamber.com/events/details/ribbon-cutting-hutto-isd-hr-building-3530
END:VEVENT

END:VCALENDAR
