BEGIN:VCALENDAR
VERSION:2.0
PRODID:-//ChamberMaster//Event Calendar 2.0//EN
METHOD:PUBLISH
X-PUBLISHED-TTL:P3D
REFRESH-INTERVAL:P3D
CALSCALE:GREGORIAN
BEGIN:VEVENT
DTSTART:20241010T130000Z
DTEND:20241010T140000Z
X-MICROSOFT-CDO-ALLDAYEVENT:FALSE
SUMMARY:Power Breakfast
DESCRIPTION:Witness the collaborative efforts of Williamson County ESD and the Hutto Area Chamber of Commerce as they unite to present a gathering of community leaders from government\, education\, and business. This congenial event offers an informal platform for updates on the latest community activities while fostering valuable networking connections. Stay abreast of the pivotal developments within the Hutto community while relishing a delightful breakfast spread. \n\n\n\nThis is a FREE event for anyone in the community to attend. Community updates are followed by a featured speaker.\n\n \n\nSPEAKER: REB BURGERT - Top Store Leader at HEB\n\n \n\nAbout Speaker: Reb Burgert has been a successful leader at H-E-B for 43 years. In his current role as a General Manager at a Plus store\, he oversees over 650 employees and 45 Department Managers\, handling responsibilities that include customer service\, Partner development\, merchandising\, and financial performance.\n\n \n\nH-E-B\, based in San Antonio\, Texas\, operates more than 380 stores across Texas and northeast Mexico\, including Central Market\, an upscale retailer. With a revenue of $38.9 billion in 2022\, H-E-B ranks 6th on Forbes's list of "America's Largest Private Companies" and 13th on Supermarket News's "Top 75 North American Food Retailers" by sales. The company donates 5% of its pretax profits to charity\, and its mascot\, H-E-Buddy\, is an anthropomorphic grocery bag.
X-ALT-DESC;FMTTYPE=text/html:<div class="kvgmc6g5 cxmmr5t8 oygrvhab hcukyx3x c1et5uql" style="word-wrap: break-word\; margin: 0px\; font-family: system-ui\, -apple-system\, BlinkMacSystemFont\, &quot\;.SFNSText-Regular&quot\;\, sans-serif\; caret-color: rgb(5\, 5\, 5)\; color: rgb(5\, 5\, 5)\; font-size: 15px\;">Witness the collaborative efforts of Williamson County ESD and the Hutto Area Chamber of Commerce as they unite to present a gathering of community leaders from government\, education\, and business. This congenial event offers an informal platform for updates on the latest community activities while fostering valuable networking connections. Stay abreast of the pivotal developments within the Hutto community while relishing a delightful breakfast spread.&nbsp\;<br />\n<br />\n<span style="color: rgb(52\, 53\, 65)\; white-space-collapse: preserve\;">This is a FREE event for anyone in the community to attend. Community updates are followed by a featured speaker.</span></div>\n\n<p class="kvgmc6g5 cxmmr5t8 oygrvhab hcukyx3x c1et5uql" style="overflow-wrap: break-word\; margin: 0px\; font-family: system-ui\, -apple-system\, BlinkMacSystemFont\, &quot\;.SFNSText-Regular&quot\;\, sans-serif\; caret-color: rgb(5\, 5\, 5)\; color: rgb(5\, 5\, 5)\; font-size: 15px\;">&nbsp\;</p>\n\n<p class="kvgmc6g5 cxmmr5t8 oygrvhab hcukyx3x c1et5uql" style="overflow-wrap: break-word\; margin: 0px\; font-family: system-ui\, -apple-system\, BlinkMacSystemFont\, &quot\;.SFNSText-Regular&quot\;\, sans-serif\; caret-color: rgb(5\, 5\, 5)\; color: rgb(5\, 5\, 5)\; font-size: 15px\;"><span style="color: rgb(52\, 53\, 65)\; white-space-collapse: preserve\;"><strong>SPEAKER</strong>: REB BURGERT - </span><span class="OYPEnA font-feature-liga-off font-feature-clig-off font-feature-calt-off text-decoration-none text-strikethrough-none" style="color: rgb(0\, 0\, 0)\; font-weight: 700\; font-kerning: none\;">Top Store Leader at HEB</span></p>\n\n<p class="kvgmc6g5 cxmmr5t8 oygrvhab hcukyx3x c1et5uql" style="overflow-wrap: break-word\; margin: 0px\; font-family: system-ui\, -apple-system\, BlinkMacSystemFont\, &quot\;.SFNSText-Regular&quot\;\, sans-serif\; caret-color: rgb(5\, 5\, 5)\; color: rgb(5\, 5\, 5)\; font-size: 15px\;">&nbsp\;</p>\n\n<p class="kvgmc6g5 cxmmr5t8 oygrvhab hcukyx3x c1et5uql" style="overflow-wrap: break-word\; margin: 0px\; font-family: system-ui\, -apple-system\, BlinkMacSystemFont\, &quot\;.SFNSText-Regular&quot\;\, sans-serif\; caret-color: rgb(5\, 5\, 5)\; color: rgb(5\, 5\, 5)\; font-size: 15px\;"><span class="OYPEnA font-feature-liga-off font-feature-clig-off font-feature-calt-off text-decoration-none text-strikethrough-none" style="color: rgb(0\, 0\, 0)\; font-weight: 700\; font-kerning: none\;">About Speaker:&nbsp\;</span>Reb Burgert has been a successful leader at H-E-B for 43 years. In his current role as a General Manager at a Plus store\, he oversees over 650 employees and 45 Department Managers\, handling responsibilities that include customer service\, Partner development\, merchandising\, and financial performance.<br />\n&nbsp\;<br />\nH-E-B\, based in San Antonio\, Texas\, operates more than 380 stores across Texas and northeast Mexico\, including Central Market\, an upscale retailer. With a revenue of $38.9 billion in 2022\, H-E-B ranks 6th on Forbes&#39\;s list of &quot\;America&#39\;s Largest Private Companies&quot\; and 13th on Supermarket News&#39\;s &quot\;Top 75 North American Food Retailers&quot\; by sales. The company donates 5% of its pretax profits to charity\, and its mascot\, H-E-Buddy\, is an anthropomorphic grocery bag.<br />\n&nbsp\;</p>\n
LOCATION:EWCHEC | 3rd Floor 1600 Innovation Blvd\, Hutto\, TX 78634
UID:e.2429.3144
SEQUENCE:3
DTSTAMP:20260421T192209Z
URL:https://cm.huttochamber.com/events/details/power-breakfast-10-10-2024-3144
END:VEVENT

END:VCALENDAR
