BEGIN:VCALENDAR
VERSION:2.0
PRODID:-//ChamberMaster//Event Calendar 2.0//EN
METHOD:PUBLISH
X-PUBLISHED-TTL:P3D
REFRESH-INTERVAL:P3D
CALSCALE:GREGORIAN
BEGIN:VEVENT
DTSTART:20220608T163000Z
DTEND:20220608T180000Z
X-MICROSOFT-CDO-ALLDAYEVENT:FALSE
SUMMARY:Hutto Area Chamber Luncheon
DESCRIPTION:Join us on Wednesday\, June 8th from 11:30am-1pm for our Speed Networking Luncheon!\n\nThis event gives you the opportunity to connect with businesses in your community and surrounding area.\n\nBe sure to bring lots of business cards!\n\n*You MUST register online for this event.\n\n*Registration will close on Tuesday\, March 8th @ 11:59pm.\n\n*This event is open to members and non-members of the Chamber.
X-ALT-DESC;FMTTYPE=text/html:<div data-block="true" data-editor="94cpq" data-offset-key="9nh11-0-0" style="font-family: system-ui\, -apple-system\, BlinkMacSystemFont\, &quot\;.SFNSText-Regular&quot\;\, sans-serif\; caret-color: rgb(28\, 30\, 33)\; color: rgb(28\, 30\, 33)\; font-size: 12px\; white-space: pre-wrap\;">\n<div class="_1mf _1mj" data-offset-key="9nh11-0-0" style="position: relative\; direction: ltr\; font-family: inherit\;">\n<div class="kvgmc6g5 cxmmr5t8 oygrvhab hcukyx3x c1et5uql" style="caret-color: rgb(28\, 30\, 33)\; white-space: pre-wrap\; overflow-wrap: break-word\; margin: 0px\; font-family: system-ui\, -apple-system\, system-ui\, &quot\;.SFNSText-Regular&quot\;\, sans-serif\; color: rgb(5\, 5\, 5)\; font-size: 15px\;">Join us on Wednesday\, June 8th from 11:30am-1pm for our Speed Networking Luncheon!</div>\n\n<div class="cxmmr5t8 oygrvhab hcukyx3x c1et5uql o9v6fnle" style="caret-color: rgb(28\, 30\, 33)\; white-space: pre-wrap\; overflow-wrap: break-word\; margin: 0.5em 0px 0px\; font-family: system-ui\, -apple-system\, system-ui\, &quot\;.SFNSText-Regular&quot\;\, sans-serif\; color: rgb(5\, 5\, 5)\; font-size: 15px\;">This event gives you the opportunity to connect with businesses in your community and surrounding area.</div>\n\n<div class="cxmmr5t8 oygrvhab hcukyx3x c1et5uql o9v6fnle" style="caret-color: rgb(28\, 30\, 33)\; white-space: pre-wrap\; overflow-wrap: break-word\; margin: 0.5em 0px 0px\; font-family: system-ui\, -apple-system\, system-ui\, &quot\;.SFNSText-Regular&quot\;\, sans-serif\; color: rgb(5\, 5\, 5)\; font-size: 15px\;">Be sure to bring lots of business cards!</div>\n\n<div class="cxmmr5t8 oygrvhab hcukyx3x c1et5uql o9v6fnle" style="caret-color: rgb(28\, 30\, 33)\; white-space: pre-wrap\; overflow-wrap: break-word\; margin: 0.5em 0px 0px\; font-family: system-ui\, -apple-system\, system-ui\, &quot\;.SFNSText-Regular&quot\;\, sans-serif\; color: rgb(5\, 5\, 5)\; font-size: 15px\;">*You MUST register online for this event.<br />\n*Registration will close on Tuesday\, March 8th @ 11:59pm.<br />\n*This event is open to members and non-members of the Chamber.</div>\n</div>\n</div>\n
LOCATION:EWCHEC 1600 Innovation Blvd Hutto\, TX 78634
UID:e.2429.2828
SEQUENCE:3
DTSTAMP:20260422T072122Z
URL:https://cm.huttochamber.com/events/details/hutto-area-chamber-luncheon-06-08-2022-2828
END:VEVENT

END:VCALENDAR
