BEGIN:VCALENDAR
VERSION:2.0
PRODID:-//ChamberMaster//Event Calendar 2.0//EN
METHOD:PUBLISH
X-PUBLISHED-TTL:P3D
REFRESH-INTERVAL:P3D
CALSCALE:GREGORIAN
BEGIN:VEVENT
DTSTART:20260602T133000Z
DTEND:20260602T153000Z
X-MICROSOFT-CDO-ALLDAYEVENT:FALSE
SUMMARY:Executive Leadership Forum
DESCRIPTION:The Executive Leadership Forum convenes a curated group of top decision-makers for high-value dialogue\, peer exchange\, and strategic insight. This is not just a networking event it is an executive-level conversation designed to foster meaningful connections and actionable ideas.
X-ALT-DESC;FMTTYPE=text/html:<span style="font-family:aptos\,sans-serif\;"><span style="font-size:12.0pt\;">The Executive Leadership Forum convenes a curated group of top decision-makers for high-value dialogue\, peer exchange\, and strategic insight. This is not just a networking event&mdash\;it is an&nbsp\;<strong>executive-level conversation</strong> designed to foster meaningful connections and actionable ideas.</span></span>
LOCATION:East Williamson County Higher Education Center Third Floor 1600 Innovation Blvd Hutto\, TX 78634
UID:e.2429.4274
SEQUENCE:3
DTSTAMP:20260421T215836Z
URL:https://cm.huttochamber.com/events/details/executive-leadership-forum-4274
END:VEVENT

END:VCALENDAR
