BEGIN:VCALENDAR
VERSION:2.0
PRODID:-//ChamberMaster//Event Calendar 2.0//EN
METHOD:PUBLISH
X-PUBLISHED-TTL:P3D
REFRESH-INTERVAL:P3D
CALSCALE:GREGORIAN
BEGIN:VEVENT
DTSTART:20210522T010000Z
DTEND:20210522T030000Z
X-MICROSOFT-CDO-ALLDAYEVENT:FALSE
SUMMARY:Clubbie Book Launch at Christ the Rock
DESCRIPTION:
X-ALT-DESC;FMTTYPE=text/html:
LOCATION:
UID:e.2429.3078
SEQUENCE:3
DTSTAMP:20260425T024218Z
URL:https://cm.huttochamber.com/events/details/clubbie-book-launch-at-christ-the-rock-3078
END:VEVENT

END:VCALENDAR
