BEGIN:VCALENDAR
VERSION:2.0
PRODID:-//ChamberMaster//Event Calendar 2.0//EN
METHOD:PUBLISH
X-PUBLISHED-TTL:P3D
REFRESH-INTERVAL:P3D
CALSCALE:GREGORIAN
BEGIN:VEVENT
DTSTART:20250714T170000Z
DTEND:20250714T173000Z
X-MICROSOFT-CDO-ALLDAYEVENT:FALSE
SUMMARY:What A Dog Grooming Ribbon Cutting
DESCRIPTION:Join Us for a Special Ribbon Cutting!  \n\nYou're invited to celebrate a new addition to our community with a ribbon-cutting ceremony!\n\n\n\nJoin us as we welcome this dog grooming business and show our support.\n\nWe look forward to seeing you there!
X-ALT-DESC;FMTTYPE=text/html:<p data-end="51" data-start="0"><br />\n<strong data-end="49" data-start="0">Join Us for a Special Ribbon Cutting! &#128062\;</strong></p>\n\n<p data-end="225" data-start="53">You&#39\;re invited to celebrate a <strong data-end="116" data-start="83">new addition to our community</strong> with a ribbon-cutting ceremony!<br />\n<br />\nJoin us as we welcome this dog grooming business and show our support.</p>\n\n<p data-end="320" data-start="227">We look forward to seeing you there!</p>\n
LOCATION:312 Farley Street\, Hutto\, TX 78634
UID:e.2429.3969
SEQUENCE:3
DTSTAMP:20260419T175257Z
URL:http://cm.huttochamber.com/events/details/what-a-dog-grooming-ribbon-cutting-3969
END:VEVENT

END:VCALENDAR
