BEGIN:VCALENDAR
VERSION:2.0
PRODID:-//ChamberMaster//Event Calendar 2.0//EN
METHOD:PUBLISH
X-PUBLISHED-TTL:P3D
REFRESH-INTERVAL:P3D
CALSCALE:GREGORIAN
BEGIN:VEVENT
DTSTART:20250709T163000Z
DTEND:20250709T180000Z
X-MICROSOFT-CDO-ALLDAYEVENT:FALSE
SUMMARY:Hutto Area Chamber Luncheon
DESCRIPTION:Guest speaker: County Commissioner Russ Boles Sponsor-Kitchell\n\n\n\nExpand your business connections at our upcoming Networking Event!!\n\nJoin us for a valuable opportunity to exchange sustainable business practices and gain insights into innovative strategies from fellow professionals. This dynamic networking session is designed to help you build meaningful relationships that drive success.\n\nDon't forget to bring plenty of business cards! As they say\, "A strong network is the key to success." Be part of this engaging experience at the Hutto Chamber of Commerce Monthly Luncheon because your network is your net worth. Don't miss out!
X-ALT-DESC;FMTTYPE=text/html:<div data-block="true" data-editor="94cpq" data-offset-key="9nh11-0-0" style="font-family: system-ui\, -apple-system\, BlinkMacSystemFont\, &quot\;.SFNSText-Regular&quot\;\, sans-serif\; caret-color: rgb(28\, 30\, 33)\; color: rgb(28\, 30\, 33)\; font-size: 12px\; white-space: pre-wrap\;">\n<div class="_1mf _1mj" data-offset-key="9nh11-0-0" style="position: relative\; direction: ltr\; font-family: inherit\;">\n<p data-end="68" data-start="0"><span style="font-size:18px\;">Guest speaker: County Commissioner Russ Boles Sponsor-Kitchell</span><br />\n<br />\n<span style="font-size:18px\;">Expand your business connections at our upcoming <u>Networking Event!!</u></span></p>\n\n<p data-end="328" data-start="70"><span style="font-size:18px\;">Join us for a valuable opportunity to exchange sustainable business practices and gain insights into innovative strategies from fellow professionals. This dynamic networking session is designed to help you build meaningful relationships that drive success.</span></p>\n\n<p data-end="574" data-is-last-node="" data-is-only-node="" data-start="330"><span style="font-size:18px\;">Don&rsquo\;t forget to bring plenty of business cards! As they say\, &quot\;A strong network is the key to success.&quot\; Be part of this engaging experience at the Hutto Chamber of Commerce Monthly Luncheon&mdash\;because your network is your net worth. Don&rsquo\;t miss out!</span></p>\n</div>\n</div>\n
LOCATION:EWCHEC 3rd Floor 1600 Innovation Blvd Hutto\, TX 78634
UID:e.2429.2865
SEQUENCE:3
DTSTAMP:20260426T001801Z
URL:http://cm.huttochamber.com/events/details/hutto-area-chamber-luncheon-07-09-2025-2865
END:VEVENT

END:VCALENDAR
