BEGIN:VCALENDAR
VERSION:2.0
PRODID:-//ChamberMaster//Event Calendar 2.0//EN
METHOD:PUBLISH
X-PUBLISHED-TTL:P3D
REFRESH-INTERVAL:P3D
CALSCALE:GREGORIAN
BEGIN:VEVENT
DTSTART:20210609T163000Z
DTEND:20210609T180000Z
X-MICROSOFT-CDO-ALLDAYEVENT:FALSE
SUMMARY:Hutto Area Chamber Luncheon
DESCRIPTION:Guest Speaker: Robert "Bob" Shaver\n\n\n\nBob Shaver is a Certified Small Business Mentor with SCORE in Austin\, Texas. The Austin Chapter\, (a "Platinum" Chapter and Large Market Chapter of the year in 2018) is responsible for clients throughout central Texas\, one of the most dynamic locations in the US. Bob joined SCORE in March of 2015 and was named EVP in 2018 and Chapter Chairman in 2019.
X-ALT-DESC;FMTTYPE=text/html:<div data-block="true" data-editor="94cpq" data-offset-key="9nh11-0-0" style="font-family: system-ui\, -apple-system\, BlinkMacSystemFont\, &quot\;.SFNSText-Regular&quot\;\, sans-serif\; caret-color: rgb(28\, 30\, 33)\; color: rgb(28\, 30\, 33)\; font-size: 12px\; white-space: pre-wrap\;">\n<div class="_1mf _1mj" data-offset-key="9nh11-0-0" style="position: relative\; direction: ltr\; font-family: inherit\;"><span style="border:1pt none windowtext\;padding:0in\;"><span style="font-family:&amp\;">Guest Speaker: Robert &quot\;Bob&quot\; Shaver<br />\n<br />\nBob Shaver is a Certified Small Business Mentor with SCORE in Austin\, Texas. The Austin Chapter\, (a &ldquo\;Platinum&rdquo\; Chapter and Large Market Chapter of the year in 2018) is responsible for clients throughout central Texas\, one of the most dynamic locations in the US. Bob joined SCORE in March of 2015 and was named EVP in 2018 and Chapter Chairman in 2019.</span></span><br />\n&nbsp\;</div>\n</div>\n
LOCATION:Downtown Hall of Fame 205 East St\, Hutto\, TX 78634
UID:e.2429.2816
SEQUENCE:3
DTSTAMP:20260422T231414Z
URL:http://cm.huttochamber.com/events/details/hutto-area-chamber-luncheon-06-09-2021-2816
END:VEVENT

END:VCALENDAR
